BEGIN:VCALENDAR
VERSION:2.0
CALSCALE:GREGORIAN
PRODID:adamgibbons/ics
METHOD:PUBLISH
X-PUBLISHED-TTL:PT1H
BEGIN:VEVENT
UID:46950@wohin.bachgau.social
SUMMARY:Tanztee für Seniorinnen und Senioren
DTSTAMP:20260424T190331Z
DTSTART:20260518T130000Z
DTEND:20260518T160000Z
DESCRIPTION:Die Stadt Aschaffenburg hat in Zusammenarbeit mit dem Martinusf
	orum und dem\nKatholischen Senioren-Forum ein neues Angebot für die Senior
	innen und Senioren\nder Stadt Aschaffenburg entwickelt. Unter dem Motto „T
	anztee – fit und\nbeschwingt durch Tanzen im Alter“ darf künftig einmal im
	 Monat im Martinushaus\,\nTreibgasse 26\, getanzt werden. Bei Kaffee und K
	uchen spielt der Aschaffenburger\nMusiker Heribert Englert bekannte Lieder
	\, zu denen die Gäste ganz nach Lust und\nLaune tanzen können.Eintritt: 2 
	€
URL:https://wohin.bachgau.social/event/tanztee-fur-seniorinnen-und-senioren
	-38
GEO:49.977179500000005;9.14376457197973
LOCATION:Martinushaus Aschaffenburg - Treibgasse\, Oberstadt\, Stadtmitte\,
	 Aschaffenburg\, Bayern\, 63739\, Deutschland
STATUS:CONFIRMED
CATEGORIES:
X-ALT-DESC;FMTTYPE=text/html:Die Stadt Aschaffenburg hat in Zusammenarbeit 
	mit dem Martinusforum und dem Katholischen Senioren-Forum ein neues Angebo
	t für die Seniorinnen und Senioren der Stadt Aschaffenburg entwickelt. Unt
	er dem Motto „Tanztee – fit und beschwingt durch Tanzen im Alter“ darf kün
	ftig einmal im Monat im Martinushaus, Treibgasse 26, getanzt werden. Bei K
	affee und Kuchen spielt der Aschaffenburger Musiker Heribert Englert bekan
	nte Lieder, zu denen die Gäste ganz nach Lust und Laune tanzen können.Eint
	ritt: 2 €
BEGIN:VALARM
ACTION:DISPLAY
DESCRIPTION:Tanztee für Seniorinnen und Senioren
TRIGGER:-PT1H
END:VALARM
END:VEVENT
END:VCALENDAR
