BEGIN:VCALENDAR
VERSION:2.0
CALSCALE:GREGORIAN
PRODID:adamgibbons/ics
METHOD:PUBLISH
X-PUBLISHED-TTL:PT1H
BEGIN:VEVENT
UID:46952@wohin.bachgau.social
SUMMARY:Tanztee für Tanzbegeisterte
DTSTAMP:20260424T223537Z
DTSTART:20260527T120000Z
DTEND:20260527T150000Z
URL:https://wohin.bachgau.social/event/tanztee-fur-tanzbegeisterte-36
GEO:49.9279087;9.0308527
LOCATION:Quartierszentrum Ringheim - Ringheim\, Großostheim\, Landkreis Asc
	haffenburg\, Bayern\, 63762\, Deutschland
STATUS:CONFIRMED
CATEGORIES:Bachgau,Großostheim,Ringheim,Tanztee
END:VEVENT
END:VCALENDAR
