BEGIN:VCALENDAR
VERSION:2.0
CALSCALE:GREGORIAN
PRODID:adamgibbons/ics
METHOD:PUBLISH
X-PUBLISHED-TTL:PT1H
BEGIN:VEVENT
UID:46951@wohin.bachgau.social
SUMMARY:Berufliche Beratung für Migrantinnen
DTSTAMP:20260424T131707Z
DTSTART:20260505T120000Z
DTEND:20260505T140000Z
URL:https://wohin.bachgau.social/event/berufliche-beratung-fur-migrantinnen
	-85
LOCATION:Berufsinformationszentrum Aschaffenburg - Goldbacher Straße 25–27 
	63739 Aschaffenburg
STATUS:CONFIRMED
CATEGORIES:
END:VEVENT
END:VCALENDAR
