BEGIN:VCALENDAR
VERSION:2.0
CALSCALE:GREGORIAN
PRODID:adamgibbons/ics
METHOD:PUBLISH
X-PUBLISHED-TTL:PT1H
BEGIN:VEVENT
UID:46944@wohin.bachgau.social
SUMMARY:„Trauer Treff Alzenau“ .....ein begleiteter Trauerspaziergang im Pa
	rk
DTSTAMP:20260424T213408Z
DTSTART:20260520T150000Z
DTEND:20250305T170000Z
URL:https://wohin.bachgau.social/event/trauer-treff-alzenau-ein-begleiteter
	-trauerspaziergang-im-park-29
LOCATION:Rathaus Alzenau - Hanauer Straße 1 63755 Alzenau
STATUS:CONFIRMED
CATEGORIES:Alzenau,Hilfe,Seelsorge,Trauer
END:VEVENT
END:VCALENDAR
